Workbook
Name AnnéesPrêt: #REF!
Name Capital: -PPMT(TauxIntérêt/12,NuméroPaiement,NombreDePaiements,MontantPrêt)
Name CoûtPrêtTotal: #REF!
Name DateDébutPrêt: #REF!
Name DatePaiement: DATE(YEAR(DateDébutPrêt),MONTH(DateDébutPrêt)+NuméroPaiement,DAY(DateDébutPrêt))
Name DernièreColonne: COUNTA(#REF!)
Name DernièreLigne: MATCH(9.99E+307,#REF!)
Name LigneEnTête: ROW(#REF!)
Name LigneTitreRegion1..D6: #REF!
Name MontantIntérêt: -IPMT(TauxIntérêt/12,NuméroPaiement,NombreDePaiements,MontantPrêt)
Name MontantPrêt: #REF!
Name NombreDePaiements: #REF!
Name NuméroPaiement: ROW()-LigneEnTête
Name PaiementMensuel: -PMT(TauxIntérêt/12,NombreDePaiements,MontantPrêt)
Name PrêtNonRemboursé: IF(NuméroPaiement<=NombreDePaiements,1,0)
Name PrêtOK: IF(MontantPrêt*TauxIntérêt*AnnéesPrêt*DateDébutPrêt>0,1,0)
Name SoldeFinal: -FV(TauxIntérêt/12,NuméroPaiement,-PaiementMensuel,MontantPrêt)
Name TauxIntérêt: #REF!
Name TitreColonne1: #REF!
Name Total_Intérêts: #REF!
Name ValeurPrêt: -FV(TauxIntérêt/12,NuméroPaiement-1,-PaiementMensuel,MontantPrêt)
Name ZoneImpression_DÉFINIR: OFFSET(#REF!,,,DernièreLigne,DernièreColonne)
Name ZoneTitreLigne2..H6: #REF!

Sheet 1-Ma situation
C1: 1- Ma situation
C2: Complétez les données ci-dessous (cases oranges). Pour voir l'estimation de votre capacité d'emprunt maximum, cliquez ensuite en bas de page sur l'onglet 2-Ma capacité d'emprunt. Pour voir l'estimation du coût mensuel que représente l'achat d'un logement précis, cliquez sur l'onglet 3-Simuler un achat.
C3: Mes données
C4: Votre n° de référence au CLTB
C6: Date de la simulation | F6: Par qui?
C7: Composition du ménage
C8: Si vous achetez à 2, indiquez en candidat.e 1 la personne la plus jeune. Sauf celle-ci n'a pas de revenu propre, l'indiquer en 2ème. Les allocations familiales ne sont pas considérées comme un revenu propre ici.
C9: Candidat.e 1 : | D9: Nom
D10: Âge
C12: Candidat.e 2 : | D12: Nom
D13: Âge
C15: Achetez-vous seul.e ou à deux? Indiquez ici le nombre d'acquéreurs
C17: Nombre d'enfants à charge | F17: Indiquez ici le nombre d'enfants pour lesquels vous percevez des allocations familiales.
C19: Nombre de membres du ménage qui ont une reconnaissance de handicap
C23: Ma situation de logement actuelle
C25: Loyer actuel | F25: €/mois
C27: Quelles sont vos charges actuelles? | F27: €/mois
C29: Combien avez-vous de chambres actuellement ? | F29: chambre(s)
C31: Combien souhaitez-vous avoir de chambres ? * | F31: chambre(s)
C35: Ma situation financière
C37: Mes revenus mensuels
C39: revenu mensuel 1
C40: + revenu mensuel 2
C41: + revenu mensuel 3
C43: + Allocations familiales | F43: Ne pas prendre en compte les allocations pour les enfants qui ont plus de 18 ans.
C45: = Total des revenus mensuels | E45: =SUM(E39:E43) -> 0
C47: - pension alimentaire à verser | F47: par mois
C49: - crédit en cours à rembourser /mois
C51: = Total des revenus mensuels nets | E51: =E45-E47-E49 -> 0
C53: Quels sont vos revenus annuels?
C55: revenu annuel 1 | F55: indiquez ici le montant du revenu annuel imposable globalement repris sur votre dernier avertissement extrait de rôle
C56: revenu annuel 2
C57: revenu annuel 3
C59: Total des revenus annuels | E59: =SUM(E55:E57) -> 0
C61: Mes fonds propres
C63: Montant de mes fonds propres | E63: 2000
C65: Pour rappel, une garantie de 2.000€ est demandée pour acheter un logement CLTB.
C67: Commentaires éventuels

Sheet 2-Ma capacité d'emprunt
B2: 2- Ma capacité de financement
C4: Le calcul ci-dessous établi sur base des informations communiquées sur votre situation | J4: Ci-dessous, vous pouvez faire varier les paramètres en orange (mensualité, taux, durée, fonds propre) et voir l'impact sur le montant que vous pouvez emprunter et financer.
C6: Montant maximum empruntable | E6: =-PV(E11/12/100,E13*12,E9) -> 0 | J6: Montant maximum empruntable | L6: =-PV(L11/12/100,L13*12,L9) -> 0
C9: Mensualité correspondante | E9: =0.4*'1-Ma situation'!$E$51 -> 0 | F9: par mois | J9: Mensualité souhaitée | M9: par mois
C11: Taux d'intérêt : | E11: =IF('1-Ma situation'!E17+'1-Ma situation'!E19=0,3.85,IF('1-Ma situation'!E17+'1-Ma situation'!E19=1,3.65,IF('1-Ma situation'!E17+'1-Ma situation'!E19=2,3.45,3.25))) -> 3.85 | F11: % | J11: Taux d'intérêt : | L11: 3.85 | M11: %
C13: Durée du prêt : | E13: =MIN(30,70-('1-Ma situation'!E10)) -> 30 | F13: ans | J13: Durée du prêt : | L13: =E13 -> 30 | M13: ans
C17: + Vos fonds propre | E17: ='1-Ma situation'!E63 -> 2000 | J17: + Vos fonds propres | L17: =E17 -> 2000
C19: = Montant maximum finançable | E19: =E6+E17 -> 2000 | J19: = Montant maximum finançable | L19: =L6+L17 -> 2000
C21: Les montants repris ci-dessus sont donnés à titre indicatif, et n’engagent en rien le CLTB. Le CLTB n’est pas un organisme de crédit, nous vous recommandons de faire aussi une demande d’estimation de votre capacité d’emprunt auprès d’un organisme de crédit.
C23: Les calculs ci-dessus sont établis sur base de moyennes.
C24: - Calcul de votre mensualité: Nous avons considéré que vous pouviez consacrer maximum 40% de votre revenu net au remboursement de votre crédit.
C25: - Le taux d'intérêt indiqué est basé sur le taux minimum actuellement pratiqué par le Fonds du Logement en fonction du nombre d'enfants à charge et du nombre de personnes avec une reconnaisance de handicap que vous avez renseigné.
C26: Taux d'intérêt minimum: 3, 85% pour 0 enfant à charge; 3,65% pour un enfant; 3,45 pour 2 enfants; 3,25% pour 3 enfants et +
C27: - La durée du crédit est de maximum 30 ans et calculée de sorte à ce que le crédit soit entièrement remboursé pour les 70 ans de l'emprunteur le plus jeune. Attention, selon le projet, le date de conclusion du crédit varie et la durée réelle du crédit peut être réduite.
C29: N'hésitez pas à faire également une simulation avec le simulateur en ligne du Fonds du Logement https://websimu.wffl.be, et/ou à demander un rendez-vous au Fonds du Logement 02/504.32.11
E34: =MAX('1-Ma situation'!E10,'1-Ma situation'!E13) -> 0

Sheet 3-Simuler un achat
B1: 3- Simuler un achat
B2: Choisissez un logement via le menu déroulant qui s'affiche lorsque vous cliquez sur les cellules encadrées en rouge, et les données du logement correspondantes s'afficheront. Le montant de l'apport propre, le taux d'intérêt et la durée du crédit sont calculés sur base des infos rentrées dans les onglets Ma situation et Ma capacité d'emprunt. Si vous souhaitez modifier ces variables vous-mêmes, complétez les cases oranges dans la dernière colonne.
B3: Les prix de vente frais compris, les frais de copropriété et de précompte immobilier indiqués le sont à titre indicatifs, ils ne sont pas déterminés par le CLTB et n'engagent en rien le CLTB. De même pour le taux d'intérêt et la durée du crédit. Le CLTB ne fait pas crédit, nous vous recommandons de demander une simulation à un organisme de crédit.
B5: Nom du logement
B7: Données de calcul
B9: Prix de vente frais compris TVA 6% + frais d'actes - Estimation | E9: =VLOOKUP(E$5,sources!$A$5:$E$23,4,FALSE) -> #N/A | F9: € | I9: =VLOOKUP(I$5,sources!$A$5:$E$23,4,FALSE) -> #N/A | J9: € | M9: =VLOOKUP(M$5,sources!$A$5:$E$23,4,FALSE) -> #N/A | N9: € | Q9: =VLOOKUP(Q$5,sources!$A$5:$E$23,4,FALSE) -> #N/A | R9: €
B11: - Apport propre : | D11: - | E11: ='1-Ma situation'!$E$63 -> 2000 | F11: € | I11: ='1-Ma situation'!$E$63 -> 2000 | J11: € | M11: ='1-Ma situation'!$E$63 -> 2000 | N11: € | Q11: 2000 | R11: €
B13: = Montant à emprunter | D13: = | E13: =E9-E11 -> #N/A | F13: € | I13: =I9-I11 -> #N/A | J13: € | M13: =M9-M11 -> #N/A | N13: € | Q13: =Q9-Q11 -> #N/A | R13: €
B15: Superficie du logement superficie donnée à titre indicatif Les charges augmentent avec la taille du logement | E15: =VLOOKUP(E$5,sources!$A$5:$E$23,2,FALSE) -> #N/A | F15: m2 | I15: =VLOOKUP(I$5,sources!$A$5:$E$23,2,FALSE) -> #N/A | J15: m2 | M15: =VLOOKUP(M$5,sources!$A$5:$E$23,2,FALSE) -> #N/A | N15: m2 | Q15: =VLOOKUP(Q$5,sources!$A$5:$E$23,2,FALSE) -> #N/A | R15: m2
B17: Y a-t-il un ascenseur ? Les charges sont plus élevées avec un ascenseur | E17: non | I17: non | M17: non | Q17: non
B19: Précompte immobilier annuel estimé Estimation tenant compte des réductions applicables | E19: =VLOOKUP(E$5,sources!$A$5:$E$23,5,FALSE)*VLOOKUP(('1-Ma situation'!$E$17+'1-Ma situation'!$E$19),sources!$A$26:$B$32,2,FALSE) -> #N/A | F19: €/an | I19: =VLOOKUP(I$5,sources!$A$5:$E$23,5,FALSE)*VLOOKUP(('1-Ma situation'!$E$17+'1-Ma situation'!$E$19),sources!$A$26:$B$32,2,FALSE) -> #N/A | J19: €/an | M19: =VLOOKUP(M$5,sources!$A$5:$E$23,5,FALSE)*VLOOKUP(('1-Ma situation'!$E$17+'1-Ma situation'!$E$19),sources!$A$26:$B$32,2,FALSE) -> #N/A | N19: €/an | Q19: =VLOOKUP(Q$5,sources!$A$5:$E$23,5,FALSE)*VLOOKUP(('1-Ma situation'!$E$17+'1-Ma situation'!$E$19),sources!$A$26:$B$32,2,FALSE) -> #N/A | R19: €/an
B21: Taux d'intérêt annuel | E21: ='2-Ma capacité d''emprunt'!$E$11 -> 3.85 | F21: % | I21: ='2-Ma capacité d''emprunt'!$E$11 -> 3.85 | J21: % | M21: ='2-Ma capacité d''emprunt'!$E$11 -> 3.85 | N21: % | Q21: ='2-Ma capacité d''emprunt'!$E$11 -> 3.85
B23: Durée du prêt | E23: ='2-Ma capacité d''emprunt'!$E$13 -> 30 | F23: ans | I23: ='2-Ma capacité d''emprunt'!$E$13 -> 30 | J23: ans | M23: ='2-Ma capacité d''emprunt'!$E$13 -> 30 | N23: ans | Q23: ='2-Ma capacité d''emprunt'!$E$13 -> 30 | R23: ans
B27: Estimation du coût mensuel global
B30: Charges liées à l'achat de votre logement
B32: Mensualité du crédit : | E32: =-PMT((E21/100)/12,E23*12,E13) -> #N/A | I32: =-PMT((I21/100)/12,I23*12,I13) -> #N/A | M32: =-PMT((M21/100)/12,M23*12,M13) -> #N/A | Q32: =-PMT((Q21/100)/12,Q23*12,Q13) -> #N/A
B34: Pourcentage de votre revenu affecté au remboursement du crédit: | E34: =E32/'1-Ma situation'!$E$51 -> #N/A | F34: % | I34: =I32/'1-Ma situation'!$E$51 -> #N/A | J34: % | M34: =M32/'1-Ma situation'!$E$51 -> #N/A | N34: % | Q34: =Q32/'1-Ma situation'!$E$51 -> #N/A | R34: %
B35: Idéalement: max 35%
B36: Revenu mensuel correspondant à une quotité de 35% affectée au remboursement du crédit | Q36: =Q32/0.35 -> #N/A | R36: €/mois
B38: Redevance FCLTB : montant indexable | E38: =sources!$B$44 -> 10.5 | F38: €/mois | I38: =sources!$B$44 -> 10.5 | J38: €/mois | M38: =sources!$B$44 -> 10.5 | N38: €/mois | Q38: =sources!$B$44 -> 10.5 | R38: €/mois
B40: Charges de co-propriété estimées : Hors consommations individuelles - estimation basée sur 1 € /m2 | E40: =IF(E17="oui",1*E15,1*E15) -> #N/A | F40: €/mois | I40: =IF(I17="oui",1*I15,1*I15) -> #N/A | J40: €/mois | M40: =IF(M17="oui",1*M15,1*M15) -> #N/A | N40: €/mois | Q40: =IF(Q17="oui",1*Q15,1*Q15) -> #N/A | R40: €/mois
B42: Précompte immobilier estimé Estimation. Le PI est payé annuellement. Nous avons divisé le montant annuel par 12 pour obtenir le coût mensuel. | E42: =E19/12 -> #N/A | F42: €/mois | I42: =I19/12 -> #N/A | J42: €/mois | M42: =M19/12 -> #N/A | N42: €/mois | Q42: =Q19/12 -> #N/A | R42: €/ mois
B44: Coût mensuel global de votre achat (estimation) | E44: =SUM(E32,E38,E40,E42) -> #N/A | F44: €/mois | I44: =SUM(I32,I38,I40,I42) -> #N/A | J44: €/mois | M44: =SUM(M32,M38,M40,M42) -> #N/A | N44: €/mois | Q44: =SUM(Q32,Q38,Q40,Q42) -> #N/A | R44: €/mois
B47: Pourcentage de votre revenu affecté à l'achat de votre logement | E47: =E44/'1-Ma situation'!$E$51 -> #N/A | F47: % | I47: =I44/'1-Ma situation'!$E$51 -> #N/A | J47: % | M47: =M44/'1-Ma situation'!$E$51 -> #N/A | N47: % | Q47: =Q44/'1-Ma situation'!$E$51 -> #N/A | R47: %
B48: Idéalement max 40%
B49: revenu mensuel correspondant à une quotité de 40% affectée au remboursement du crédit et aux charges de (co-)propriété | Q49: =Q44/0.4 -> #N/A | R49: €/mois
B51: Comparaison avec votre situation actuelle
B52: Votre loyer actuel : | E52: ='1-Ma situation'!$E$25 -> 0 | F52: €/mois | I52: ='1-Ma situation'!$E$25 -> 0 | J52: €/mois | M52: ='1-Ma situation'!$E$25 -> 0 | N52: €/mois | Q52: ='1-Ma situation'!$E$25 -> 0 | R52: €/mois
B53: Hors-charges
B55: Différence entre le coût mensuel global de l'achat et votre loyer | E55: =E44-E52 -> #N/A | F55: €/mois | I55: =I44-I52 -> #N/A | J55: €/mois | M55: =M44-M52 -> #N/A | N55: €/mois | Q55: =Q44-Q52 -> #N/A | R55: €/mois

Sheet 1-2-A imprimer
C2: 1- Ma situation
C4: 1-1-Mes données
C5: Votre n° de référence au CLTB
C7: Date de la simulation | F7: Par:
C8: Composition du ménage
C10: Candidat 1 : | D10: Nom
D11: Âge | F11: ans
C13: Candidat 2 : | D13: Nom
D14: Âge | F14: ans
C16: Achetez-vous seul ou en couple? Indiquez ici le nombre d'acquéreurs
F17: Indiquez ici l'âge des enfants à charge:
C18: Combien d'enfants avez-vous à charge ?
C20: Indiquez si et combien de membres du ménage ont une reconnaissance de handicap ?
C24: Votre situation de logement
C26: Quel est votre loyer actuel ? | F26: €/mois
C28: Quelles sont vos charges actuelles? | F28: €/mois
C30: Combien avez-vous de chambres actuellement ? | F30: chambre(s)
C32: Combien souhaitez-vous avoir de chambres ? | F32: chambre(s)
C35: 1- Ma situation
C37: 1-2- Ma situation financière
C39: Quels sont vos revenus mensuels?
F40: Indiquez ici la source de revenu (salaire CDI, CDD, interim, chômage, RIS, mutuelle, indépendant, ...). Les pensions alimentaires ne sont pas prises en compte comme revenu. Les chèques repas oui.
C41: revenu mensuel 1
C42: + revenu mensuel 2
C43: + revenu mensuel 3
C45: + Allocations familiales | F45: Ne pas prendre en compte les allocations pour les enfants qui ont plus de 18 ans.
C47: = Total des revenus mensuels | F47: €/mois
C49: - pension alimentaire à verser/mois | F49: €/mois
F50: Indiquez ici le motif du crédit et jusque quand vous devez le rembourser:
C51: - crédits en cours à rembourser/mois
C53: = Total des revenus mensuels nets | F53: €/mois
C55: Quels sont vos revenus annuels?
F56: Indiquez ici le montant du revenu annuel imposable globalement repris sur votre dernier avertissement extrait de rôle
C57: revenu annuel 1
C58: revenu annuel 2
C59: revenu annuel 3
C61: Total des revenus annuels | F61: €/an
C63: Avez-vous des fonds propres?
F64: Indiquez ici la source (épargne personnelle, prêt familial, autre)
C65: Quel est le montant de vos fonds propre ?
...

Sheet 3-A imprimer
B1: 3- Simuler un achat
B3: Type de logement
B5: Données du logement
B7: Prix de vente hors frais Montants donnés à titre indicatif | F7: € | J7: € | N7: €
B9: Prix de vente frais compris TVA 6% + frais d'actes - Estimation | F9: € | J9: € | N9: €
B11: Superficie du logement superficie donnée à titre indicatif Les charges augmentent avec la taille du logement | F11: m2 | J11: m2 | N11: m2
B13: Y a-t-il un ascenseur ? Les charges sont plus élevées avec un ascenseur | E13: non | I13: non | M13: non
B15: Précompte immobilier annuel estimé Dépend de la commune et de votre situation familiale. Les montants renseignés sont basés sur des moyennes et tiennent compte des déductions pour faible revenu. | F15: €/an | J15: €/an | N15: €/an
B19: Calcul du crédit
B21: Prix de vente du logement : Frais compris | F21: € | J21: € | N21: €
B23: - Apport propre : | D23: - | F23: € | H23: - | J23: € | L23: - | N23: €
B25: = Montant à emprunter | D25: = | F25: € | H25: = | J25: € | L25: = | N25: €
B27: Taux d'intérêt annuel | E27: 0.035 | I27: 0.035 | M27: 0.035
B29: Durée du prêt | F29: ans | J29: ans | N29: ans
B31: Mensualité
B33: Pourcentage de votre revenu affecté au remboursement du crédit: | F33: % | J33: % | N33: %
B34: Idéalement: max 35%
B38: Estimation du coût mensuel global
B41: Charges liées à l'achat de votre logement
B43: Mensualité du crédit : | F43: €/mois | J43: €/mois | N43: €/mois
B45: Redevance FCLTB : montant indexable | E45: 10 | F45: €/mois | I45: 10 | J45: €/mois | M45: 10 | N45: €/mois
B47: Charges de co-propriété estimées : Hors consommations individuelles - estimation basée sur 0,8€/m2 si pas d'ascenseur, 1,1€/m2 si ascenseur | F47: €/mois | J47: €/mois | N47: €/mois
B49: Précompte immobilier estimé Le PI est payé annuellement. Nous avons divisé le montant annuel par 12 pour obtenir le coût mensuel. | F49: €/mois | J49: €/mois | N49: €/mois
B51: Coût mensuel global de votre achat | F51: €/mois | J51: €/mois | N51: €/mois
B52: A comparer avec votre loyer actuel
B54: Pourcentage de votre revenu affecté à l'achat de votre logement | E54: =E51/'1-Ma situation'!$E$51 -> #DIV/0! | F54: % | I54: =I51/'1-Ma situation'!$E$51 -> #DIV/0! | J54: % | M54: =M51/'1-Ma situation'!$E$51 -> #DIV/0! | N54: %
B56: Idéalement max 40%
A60: Comparaison avec votre situation actuelle
B63: Coût mensuel global de votre achat : | F63: € | J63: € | N63: €
B65: Votre loyer actuel : | F65: € | J65: € | N65: €
B66: Hors-charges
B68: Différence | F68: € | J68: € | N68: €
B72: Les prix de vente, superficies, frais de copropriété et de précompte immobilier indiqués le sont à titre indicatifs et n'engagent en rien le CLTB ni le CIRE.

Sheet sources
A2: Prix des logements
B3: superficie | C3: Prix de vente HTVA | D3: Prix de vente frais compris (estimation) | E3: PI annuel | F3: ascenseur | G3: typologie et particularités
A5: ANV.03.001 (1chb PMR) | B5: 76 | C5: 185825 | D5: 210421.95 | E5: 1180 | F5: 0 | G5: simplex adapté aux chaises roulantes
A6: ANV.02.301 (2chb) | B6: 94.3 | C6: 209781.25 | D6: 237873.53 | E6: 1380 | F6: 0 | G6: duplex - grande chambre en bas, petite chambre et espaces de vie en haut
A7: ANV.02.201 (2chb) | B7: 97.8 | C7: 221418.75 | D7: 250718.2 | E7: 1380 | F7: 0 | G7: duplex - grande chambre en haut, petite chambre et espaces de vie en bas
A8: ANV.01.203 (2chb) | B8: 102 | C8: 233050 | D8: 264469.13 | E8: 1380 | F8: 0 | G8: simplex - cuisine séparable
A9: ANV.01.002 (4chb) | B9: 159.2 | C9: 303550 | D9: 350705.18 | E9: 2070 | F9: 0 | G9: simplex - cuisine séparable
A10: GRA.01.202 (studio) | B10: 65 | C10: 156050 | D10: 178501.98 | E10: 980 | F10: 0 | G10: duplex
A11: GRA.02.201 (4chb) | B11: 129.7 | C11: 288200 | D11: 332808.72 | E11: 2070 | F11: 0 | G11: simplex
A12: GRA.02.101 (4chb) | B12: 130 | C12: 288300 | D12: 332924.83 | E12: 2070 | F12: 0 | G12: simplex
A13: GRA.01.101 (4chb) | B13: 133.3 | C13: 294700 | D13: 339956.09 | E13: 2070 | F13: 0 | G13: simplex
A14: TIV.02.301 (2chb) | B14: 89.6 | C14: 213050 | D14: 241237.62 | E14: 1380 | F14: 1 | G14: simplex
A15: TIV.03.001 (2chb PMR) | B15: 108.3 | C15: 240476 | D15: 274155.54 | E15: 1380 | F15: 1 | G15: simplex adapté aux chaises roulantes
A16: TIV.03.101 (3chb) | B16: 108.3 | C16: 250550 | D16: 284229.54 | E16: 1610 | F16: 0 | G16: simplex
... A23: TRA.00.103 (4chb) | B23: 117.3 | C23: 250550 | D23: 289765.86 | E23: 2070 | F23: 0 | G23: simplex - pas accessible avec l'ascenseur
A25: nb enfts à charge | B25: % PI à payer
A26: 0 | B26: 1
A27: 1 | B27: 1
A28: 2 | B28: 0.8
A29: 3 | B29: 0.7
A30: 4 | B30: 0.6
A31: 5 | B31: 0.5
A32: 6 | B32: 0.4
A35: ascenseur
A36: oui
A37: non
A39: redevance CLTB
A40: montant de base | B40: 10
A41: indice base 11/2022 | B41: 127.92
A42: indica 09/2025 | B42: 135.26
A43: montant actualisé | B43: =B40*B42/B41 -> 10.573796
A44: montant actualisé arrondi | B44: 10.5
A46: taux d'intérêt
A47: nb enft à charge +pers handicapée
A48: 0 | B48: 3.85
A49: 1 | B49: 3.65
A50: 2 | B50: 3.45
A51: 3 | B51: 3.25
A52: 4 | B52: 3.25
